BEGIN:VCALENDAR
PRODID:-//PUBBLE//agenda//NL
VERSION:2.0
METHOD:PUBLISH
BEGIN:VEVENT
DTSTART:20250627T170000Z
DTEND:20250627T210000Z
DTSTAMP:20260423T170838Z
UID:03e088a8-1d8c-41df-b494-b1ffd384c4da
CREATED:20260423T170838Z
NAME:Theater aan het water - Den Dungen Dobbert weekblad-debrug.nl
X-WR-CALNAME:Theater aan het water - Den Dungen Dobbert
X-ALT-DESC;FMTTYPE=text/html:<a href='/agenda/2025/6/27/theater-aan-het-water-den-dungen-dobbert-82901'>/agenda/2025/6/27/theater-aan-het-water-den-dungen-dobbert-82901</a> || <p>Mini-festival met theater aan het water - ontmoeten - genieten - rondkijken - relaxen - chillen - lol- kletsen - lachen - dansen - spelen - dobberen<br><br>Kijk voor het actuele programma op www.dendungendobbert.nl</p><p><br>Toegang is € 3 aan de kassa. <br><br>Het s niet toegestaan om eigen eten en drinken met te nemen naar het mini-festival.</p>
DESCRIPTION:<a href='/agenda/2025/6/27/theater-aan-het-water-den-dungen-dobbert-82901'>/agenda/2025/6/27/theater-aan-het-water-den-dungen-dobbert-82901</a> || <p>Mini-festival met theater aan het water - ontmoeten - genieten - rondkijken - relaxen - chillen - lol- kletsen - lachen - dansen - spelen - dobberen<br><br>Kijk voor het actuele programma op www.dendungendobbert.nl</p><p><br>Toegang is € 3 aan de kassa. <br><br>Het s niet toegestaan om eigen eten en drinken met te nemen naar het mini-festival.</p>
LAST-MODIFIED:20260423T170838Z
LOCATION: Meerse Plas |   Den Dungen
SEQUENCE:0
STATUS:CONFIRMED
SUMMARY:Theater aan het water - Den Dungen Dobbert
TRANSP:OPAQUE
END:VEVENT
END:VCALENDAR
