BEGIN:VCALENDAR
PRODID:-//PUBBLE//agenda//NL
VERSION:2.0
METHOD:PUBLISH
BEGIN:VEVENT
DTSTART:20250621T090000Z
DTEND:20250713T140000Z
DTSTAMP:20260420T210258Z
UID:d181a08e-aaec-47ce-a7f4-03f3cf582ae4
CREATED:20260420T210258Z
NAME:Kunst Expositie met workshops en markt weekblad-debrug.nl
X-WR-CALNAME:Kunst Expositie met workshops en markt
X-ALT-DESC;FMTTYPE=text/html:<a href='/agenda/2025/6/21/kunst-expositie-met-workshops-en-markt-83965'>/agenda/2025/6/21/kunst-expositie-met-workshops-en-markt-83965</a> || <p>Ruim drie weken zijn tientallen kunstwerken buiten te bewonderen in het decor van de prachtige Bomentuin Den Hooidonk in Den Dungen. In het wekend zijn er diverse workshops. Check het programma op www.denhooidonk.nl. En kom vooral langs!</p>
DESCRIPTION:<a href='/agenda/2025/6/21/kunst-expositie-met-workshops-en-markt-83965'>/agenda/2025/6/21/kunst-expositie-met-workshops-en-markt-83965</a> || <p>Ruim drie weken zijn tientallen kunstwerken buiten te bewonderen in het decor van de prachtige Bomentuin Den Hooidonk in Den Dungen. In het wekend zijn er diverse workshops. Check het programma op www.denhooidonk.nl. En kom vooral langs!</p>
LAST-MODIFIED:20260420T210258Z
LOCATION: Bomentuin Den Hooidonk | Rijndonksestraat  Den Dungen
SEQUENCE:0
STATUS:CONFIRMED
SUMMARY:Kunst Expositie met workshops en markt
TRANSP:OPAQUE
END:VEVENT
END:VCALENDAR
