BEGIN:VCALENDAR
PRODID:-//PUBBLE//agenda//NL
VERSION:2.0
METHOD:PUBLISH
BEGIN:VEVENT
DTSTART:20250414T173000Z
DTEND:20250414T183000Z
DTSTAMP:20260423T094115Z
UID:a8a1db53-5ba3-4390-9431-4b44ce03fd21
CREATED:20260423T094115Z
NAME:Filmavond in Den Dungen weekblad-debrug.nl
X-WR-CALNAME:Filmavond in Den Dungen
X-ALT-DESC;FMTTYPE=text/html:<a href='/agenda/2025/4/14/filmavond-in-den-dungen-84062'>/agenda/2025/4/14/filmavond-in-den-dungen-84062</a> || <p>Op maandagavond 14 april organiseert Heemkundevereniging “Op die Dunghen” een filmavond. Deze wordt gehouden in de Litserborg in Den Dungen en begint om 19:30 uur. Wij gaan u twee films uit 2022 in reprise laten zien die we toen één keer hebben vertoond. Het gaat om de films “Huisarts van toen ontmoet huisarts van nu” en “Historische rondleiding door de kerk”. De toegang is gratis voor leden. Voor niet-leden vragen we een bijdrage van € 3,00 via het scannen van een QR-code of contant. </p>
DESCRIPTION:<a href='/agenda/2025/4/14/filmavond-in-den-dungen-84062'>/agenda/2025/4/14/filmavond-in-den-dungen-84062</a> || <p>Op maandagavond 14 april organiseert Heemkundevereniging “Op die Dunghen” een filmavond. Deze wordt gehouden in de Litserborg in Den Dungen en begint om 19:30 uur. Wij gaan u twee films uit 2022 in reprise laten zien die we toen één keer hebben vertoond. Het gaat om de films “Huisarts van toen ontmoet huisarts van nu” en “Historische rondleiding door de kerk”. De toegang is gratis voor leden. Voor niet-leden vragen we een bijdrage van € 3,00 via het scannen van een QR-code of contant. </p>
LAST-MODIFIED:20260423T094115Z
LOCATION: Litserborg | Litserstraat 2 Den Dungen
SEQUENCE:0
STATUS:CONFIRMED
SUMMARY:Filmavond in Den Dungen
TRANSP:OPAQUE
END:VEVENT
END:VCALENDAR
