BEGIN:VCALENDAR
PRODID:-//PUBBLE//agenda//NL
VERSION:2.0
METHOD:PUBLISH
BEGIN:VEVENT
DTSTART:20250426T083000Z
DTEND:20250426T160000Z
DTSTAMP:20260423T154051Z
UID:0f369703-dd46-40a3-895d-7ff2c84ea4b7
CREATED:20260423T154051Z
NAME:Koningsdag vier je in Den Dungen! weekblad-debrug.nl
X-WR-CALNAME:Koningsdag vier je in Den Dungen!
X-ALT-DESC;FMTTYPE=text/html:<a href='/agenda/2025/4/26/koningsdag-vier-je-in-den-dungen--84205'>/agenda/2025/4/26/koningsdag-vier-je-in-den-dungen--84205</a> || <p><em>Kom samen met familie en vrienden en beleef een dag voloranjegezelligheid in Den Dungen. Mis het niet en vier Koningsdag met ons mee!&nbsp;</em></p><p><em>Programma:</em></p><p>10.30 &nbsp; &nbsp; &nbsp; &nbsp; &nbsp; &nbsp; &nbsp; &nbsp;Kom met je versierde fiets naar de Litserborg in Den Dungen</p><p>10.30 &nbsp; &nbsp; &nbsp; &nbsp; &nbsp; &nbsp; &nbsp; &nbsp;Opening Koningsdag Den Dungen met harmonie Wilhelmina en het gilde</p><p>11.00 &nbsp; &nbsp; &nbsp; &nbsp; &nbsp; &nbsp; &nbsp; &nbsp; Start versierde fietsenparade richting Sportclub Den Dungen</p><p>11.30 &nbsp; &nbsp; &nbsp; &nbsp; &nbsp; &nbsp; &nbsp; &nbsp; Aankomst versierde fietsen Sportclub Den Dungen</p><p>11.45 &nbsp; &nbsp; &nbsp; &nbsp; &nbsp; &nbsp; &nbsp; &nbsp;Start Koningsdag Festival 2025 op Sportclub Den Dungen: spring spring spring op de springkussens, ontdek de leukste sporten, shop op de kleedjesmarkt, maak je eigen sleutelhanger, dans en feest mee met dj Yarno</p><p>13.30 &nbsp; &nbsp; &nbsp; &nbsp; &nbsp; &nbsp; &nbsp; &nbsp;Theatershow met Iris Confetti!</p><p>15.45 &nbsp; &nbsp; &nbsp; &nbsp; &nbsp; &nbsp; &nbsp; &nbsp;Show met goochelaar Dries!</p><p>18.00 &nbsp; &nbsp; &nbsp; &nbsp; &nbsp; &nbsp; &nbsp; &nbsp;Einde Koningsdag Festival 2025</p>
DESCRIPTION:<a href='/agenda/2025/4/26/koningsdag-vier-je-in-den-dungen--84205'>/agenda/2025/4/26/koningsdag-vier-je-in-den-dungen--84205</a> || <p><em>Kom samen met familie en vrienden en beleef een dag voloranjegezelligheid in Den Dungen. Mis het niet en vier Koningsdag met ons mee!&nbsp;</em></p><p><em>Programma:</em></p><p>10.30 &nbsp; &nbsp; &nbsp; &nbsp; &nbsp; &nbsp; &nbsp; &nbsp;Kom met je versierde fiets naar de Litserborg in Den Dungen</p><p>10.30 &nbsp; &nbsp; &nbsp; &nbsp; &nbsp; &nbsp; &nbsp; &nbsp;Opening Koningsdag Den Dungen met harmonie Wilhelmina en het gilde</p><p>11.00 &nbsp; &nbsp; &nbsp; &nbsp; &nbsp; &nbsp; &nbsp; &nbsp; Start versierde fietsenparade richting Sportclub Den Dungen</p><p>11.30 &nbsp; &nbsp; &nbsp; &nbsp; &nbsp; &nbsp; &nbsp; &nbsp; Aankomst versierde fietsen Sportclub Den Dungen</p><p>11.45 &nbsp; &nbsp; &nbsp; &nbsp; &nbsp; &nbsp; &nbsp; &nbsp;Start Koningsdag Festival 2025 op Sportclub Den Dungen: spring spring spring op de springkussens, ontdek de leukste sporten, shop op de kleedjesmarkt, maak je eigen sleutelhanger, dans en feest mee met dj Yarno</p><p>13.30 &nbsp; &nbsp; &nbsp; &nbsp; &nbsp; &nbsp; &nbsp; &nbsp;Theatershow met Iris Confetti!</p><p>15.45 &nbsp; &nbsp; &nbsp; &nbsp; &nbsp; &nbsp; &nbsp; &nbsp;Show met goochelaar Dries!</p><p>18.00 &nbsp; &nbsp; &nbsp; &nbsp; &nbsp; &nbsp; &nbsp; &nbsp;Einde Koningsdag Festival 2025</p>
LAST-MODIFIED:20260423T154051Z
LOCATION: Litserborg | Litserstraat 2 Den Dungen
SEQUENCE:0
STATUS:CONFIRMED
SUMMARY:Koningsdag vier je in Den Dungen!
TRANSP:OPAQUE
END:VEVENT
END:VCALENDAR
