BEGIN:VCALENDAR
PRODID:-//PUBBLE//agenda//NL
VERSION:2.0
METHOD:PUBLISH
BEGIN:VEVENT
DTSTART:20250813T071231Z
DTEND:20250815T150000Z
DTSTAMP:20260420T234839Z
UID:e48efaa9-5b70-461c-886f-f4fb5f7a1cdd
CREATED:20260420T234839Z
NAME:Laatste Repaircafé Den Dungen weekblad-debrug.nl
X-WR-CALNAME:Laatste Repaircafé Den Dungen
X-ALT-DESC;FMTTYPE=text/html:<a href='/agenda/2025/8/15/laatste-repaircafe-den-dungen-86973'>/agenda/2025/8/15/laatste-repaircafe-den-dungen-86973</a> || <p><strong>DEN DUNGEN - Het laatste Repaircafé van Litserborg in Den Dungen wordt op vrijdag 15 augustus gehouden.</strong></p><p>De ploeg die het Repaircafé organiseert, heeft besloten ermee te stoppen. “We vonden het leuk om te doen, maar nu is de tijd gekomen om weer dingen voor onszelf te gaan ondernemen.” Mede door verhuizingen, mantelzorgtaken en minder beschikbare tijd voor hobby’s is deze keuze gemaakt. “We vonden het mooi geweest. Mensen kunnen terecht bij andere Repaircafés in de buurt.Iedereen bedankt voor de bijdragen, en ook dank aan Litserborg voor hun medewerking – en natuurlijk voor de koffie.”</p>
DESCRIPTION:<a href='/agenda/2025/8/15/laatste-repaircafe-den-dungen-86973'>/agenda/2025/8/15/laatste-repaircafe-den-dungen-86973</a> || <p><strong>DEN DUNGEN - Het laatste Repaircafé van Litserborg in Den Dungen wordt op vrijdag 15 augustus gehouden.</strong></p><p>De ploeg die het Repaircafé organiseert, heeft besloten ermee te stoppen. “We vonden het leuk om te doen, maar nu is de tijd gekomen om weer dingen voor onszelf te gaan ondernemen.” Mede door verhuizingen, mantelzorgtaken en minder beschikbare tijd voor hobby’s is deze keuze gemaakt. “We vonden het mooi geweest. Mensen kunnen terecht bij andere Repaircafés in de buurt.Iedereen bedankt voor de bijdragen, en ook dank aan Litserborg voor hun medewerking – en natuurlijk voor de koffie.”</p>
LAST-MODIFIED:20260420T234839Z
LOCATION: Litserborg | Litserstraat 2 Den Dungen
SEQUENCE:0
STATUS:CONFIRMED
SUMMARY:Laatste Repaircafé Den Dungen
TRANSP:OPAQUE
END:VEVENT
END:VCALENDAR
