BEGIN:VCALENDAR
PRODID:-//PUBBLE//agenda//NL
VERSION:2.0
METHOD:PUBLISH
BEGIN:VEVENT
DTSTART:20250820T064817Z
DTEND:20250830T180000Z
DTSTAMP:20260419T195944Z
UID:7293c1a7-a48b-418d-91b0-d73526c14030
CREATED:20260419T195944Z
NAME:Dungens Bierfestival weekblad-debrug.nl
X-WR-CALNAME:Dungens Bierfestival
X-ALT-DESC;FMTTYPE=text/html:<a href='/agenda/2025/8/30/dungens-bierfestival-87129'>/agenda/2025/8/30/dungens-bierfestival-87129</a> || <p class="_intro04" pstyle="04_intro">DEN DUNGEN - Bierfestival Den Dungen wordt dit jaar georganiseerd op 30 augustus a.s. door Slijterij Roger en Ingrid van der Donk, samen met Brouwerij ’t Meuleneind. Het is al de derde keer dat ze dit organiseren in het mooie Den Dungen, een prachtige locatie naast de fraaie kerk in het centrum. Dit alles vindt ook plaats in samenwerking met de Litserborg, het ontmoetingscentrum van Den Dungen.</p><p class="_plattetekst05" pstyle="05_plattetekst">Dankzij deze mooie samenwerkingen kunnen wij het op zaterdag 30 augustus voor iedereen gezellig én lekker maken. Want natuurlijk draait het vooral om de heerlijke speciaalbieren die alle brouwers meenemen, maar ook aan de mensen die de BOB zijn, of liever iets anders willen drinken, is gedacht. Er is ook een frietkraam aanwezig met veel lekkers voor de inwendige mens. Kortom: een hartstikke leuke dag voor het hele gezin! Ook dit jaar hebben ze weer enthousiaste brouwers gevonden die hun lekkerste bieren meenemen voor de bezoekers. Ze gaan er met z’n allen opnieuw een prachtige dag van maken. Er is de hele dag livemuziek, verzorgd door het Rockpodium. Zij maken er echt een show van die je niet wilt missen! Daarnaast halen ze ook dit jaar weer geld op voor het goede doel: KiKa..&nbsp;</p><p class="_plattetekst05" pstyle="05_plattetekst">Voor het kaartje dat je koopt (of al hebt gekocht) voor €22,50, krijg je bij de kassa een proefglas, 5 munten, een boekje met alle brouwers en de bieren die ze meenemen én een pen. Het glas houd je de komende uren bij je en kun je laten vullen met het<span class="replaceRed overflowMarker"></span> bier dat jij hebt uitgekozen. De glazen worden omgespoeld door de brouwer, of je spoelt ze zelf om bij een spoelpunt. Munten kun je altijd bijkopen bij de kassa, bij Lia en Marjolein.</p><p class="_plattetekst05" pstyle="05_plattetekst">Omdat het festival elk jaar groeit, hebben ze dit jaar voor het eerst een maximumaantal bezoekers moeten instellen. Het terrein is nu eenmaal niet groter — en vol is dan ook echt vol. Wil je zeker zijn van een plekje? Koop dan van tevoren je kaartje. Natuurlijk zijn er, zolang de voorraad strekt, ook kaarten verkrijgbaar aan de kassa. Wil je alvast de sfeer proeven? Kijk dan op www.dungensbierfestival.nl. Daar vind je informatie over de brouwers, maar ook foto’s en filmpjes van voorgaande jaren. Als je dan dorst hebt gekregen, zien ze je graag op 30 augustus op het plein voor de Litserborg, Litserstraat 2 in Den Dungen. (Advertorial)</p>
DESCRIPTION:<a href='/agenda/2025/8/30/dungens-bierfestival-87129'>/agenda/2025/8/30/dungens-bierfestival-87129</a> || <p class="_intro04" pstyle="04_intro">DEN DUNGEN - Bierfestival Den Dungen wordt dit jaar georganiseerd op 30 augustus a.s. door Slijterij Roger en Ingrid van der Donk, samen met Brouwerij ’t Meuleneind. Het is al de derde keer dat ze dit organiseren in het mooie Den Dungen, een prachtige locatie naast de fraaie kerk in het centrum. Dit alles vindt ook plaats in samenwerking met de Litserborg, het ontmoetingscentrum van Den Dungen.</p><p class="_plattetekst05" pstyle="05_plattetekst">Dankzij deze mooie samenwerkingen kunnen wij het op zaterdag 30 augustus voor iedereen gezellig én lekker maken. Want natuurlijk draait het vooral om de heerlijke speciaalbieren die alle brouwers meenemen, maar ook aan de mensen die de BOB zijn, of liever iets anders willen drinken, is gedacht. Er is ook een frietkraam aanwezig met veel lekkers voor de inwendige mens. Kortom: een hartstikke leuke dag voor het hele gezin! Ook dit jaar hebben ze weer enthousiaste brouwers gevonden die hun lekkerste bieren meenemen voor de bezoekers. Ze gaan er met z’n allen opnieuw een prachtige dag van maken. Er is de hele dag livemuziek, verzorgd door het Rockpodium. Zij maken er echt een show van die je niet wilt missen! Daarnaast halen ze ook dit jaar weer geld op voor het goede doel: KiKa..&nbsp;</p><p class="_plattetekst05" pstyle="05_plattetekst">Voor het kaartje dat je koopt (of al hebt gekocht) voor €22,50, krijg je bij de kassa een proefglas, 5 munten, een boekje met alle brouwers en de bieren die ze meenemen én een pen. Het glas houd je de komende uren bij je en kun je laten vullen met het<span class="replaceRed overflowMarker"></span> bier dat jij hebt uitgekozen. De glazen worden omgespoeld door de brouwer, of je spoelt ze zelf om bij een spoelpunt. Munten kun je altijd bijkopen bij de kassa, bij Lia en Marjolein.</p><p class="_plattetekst05" pstyle="05_plattetekst">Omdat het festival elk jaar groeit, hebben ze dit jaar voor het eerst een maximumaantal bezoekers moeten instellen. Het terrein is nu eenmaal niet groter — en vol is dan ook echt vol. Wil je zeker zijn van een plekje? Koop dan van tevoren je kaartje. Natuurlijk zijn er, zolang de voorraad strekt, ook kaarten verkrijgbaar aan de kassa. Wil je alvast de sfeer proeven? Kijk dan op www.dungensbierfestival.nl. Daar vind je informatie over de brouwers, maar ook foto’s en filmpjes van voorgaande jaren. Als je dan dorst hebt gekregen, zien ze je graag op 30 augustus op het plein voor de Litserborg, Litserstraat 2 in Den Dungen. (Advertorial)</p>
LAST-MODIFIED:20260419T195944Z
LOCATION: Litserborg | Litserstraat 2 Den Dungen
SEQUENCE:0
STATUS:CONFIRMED
SUMMARY:Dungens Bierfestival
TRANSP:OPAQUE
END:VEVENT
END:VCALENDAR
