BEGIN:VCALENDAR
PRODID:-//PUBBLE//agenda//NL
VERSION:2.0
METHOD:PUBLISH
BEGIN:VEVENT
DTSTART:20260427T083000Z
DTEND:20260427T150000Z
DTSTAMP:20260420T132901Z
UID:2e474dd4-0c9f-42c7-afeb-1f3b971723a6
CREATED:20260420T132901Z
NAME:Vier Koningsdag in Den Dungen weekblad-debrug.nl
X-WR-CALNAME:Vier Koningsdag in Den Dungen
X-ALT-DESC;FMTTYPE=text/html:<a href='/agenda/2026/4/27/vier-koningsdag-in-den-dungen-93688'>/agenda/2026/4/27/vier-koningsdag-in-den-dungen-93688</a> || <p>Het Oranjecomité Den Dungen organiseert elk jaar een feestelijke Koningsdag vol plezier voor jong enoud! Kom samen met familie en vrienden en beleef een dag vol oranjegezelligheid in Den Dungen.&nbsp;</p><p>Mis het niet en vier Koningsdag met ons mee!&nbsp;</p><p>NIEUW:</p><p><strong>Den Dungen got talent</strong></p><p>Iedereen heeft talent.. Show jouw talent tijdens Den Dungen GotTalent op Koningsdag Den Dungen 2026!&nbsp;</p><p>Kun jij zingen, dansen, muziek maken, goochelen of iets anders?&nbsp;</p><p>Stap op het podium en laat zien wat jij kunt, alleen of samen met anderen.</p><p>Meld je aan voor Den Dungen Got Talent en doe mee!</p><p><strong>Het programma voor Koningsdag Den Dungen 2026ziet er op hoofdlijnen als volgt uit:</strong></p><p>10.30 Officiële opening Koningsdag Den Dungen 2026 bij de Litserborg.</p><p>11.00 Start versierde fietsenparade van de Litserborg naar Sportclub Den Dungen.</p><p>11.45 Opening Koningsdag Den Dungen 2026 bij Sportclub Den Dungen.</p><p>12.00 - 17.00 Volop activiteiten bij Sportclub Den Dungen!</p><p>18.00 Einde programma.</p><p>Meer weten? Bekijk de timetable!</p><p><a href="https://oranjecomite-dendungen.my.canva.site/timetable" target="_blank">https://oranjecomite-dendungen.my.canva.site/timetable</a></p>
DESCRIPTION:<a href='/agenda/2026/4/27/vier-koningsdag-in-den-dungen-93688'>/agenda/2026/4/27/vier-koningsdag-in-den-dungen-93688</a> || <p>Het Oranjecomité Den Dungen organiseert elk jaar een feestelijke Koningsdag vol plezier voor jong enoud! Kom samen met familie en vrienden en beleef een dag vol oranjegezelligheid in Den Dungen.&nbsp;</p><p>Mis het niet en vier Koningsdag met ons mee!&nbsp;</p><p>NIEUW:</p><p><strong>Den Dungen got talent</strong></p><p>Iedereen heeft talent.. Show jouw talent tijdens Den Dungen GotTalent op Koningsdag Den Dungen 2026!&nbsp;</p><p>Kun jij zingen, dansen, muziek maken, goochelen of iets anders?&nbsp;</p><p>Stap op het podium en laat zien wat jij kunt, alleen of samen met anderen.</p><p>Meld je aan voor Den Dungen Got Talent en doe mee!</p><p><strong>Het programma voor Koningsdag Den Dungen 2026ziet er op hoofdlijnen als volgt uit:</strong></p><p>10.30 Officiële opening Koningsdag Den Dungen 2026 bij de Litserborg.</p><p>11.00 Start versierde fietsenparade van de Litserborg naar Sportclub Den Dungen.</p><p>11.45 Opening Koningsdag Den Dungen 2026 bij Sportclub Den Dungen.</p><p>12.00 - 17.00 Volop activiteiten bij Sportclub Den Dungen!</p><p>18.00 Einde programma.</p><p>Meer weten? Bekijk de timetable!</p><p><a href="https://oranjecomite-dendungen.my.canva.site/timetable" target="_blank">https://oranjecomite-dendungen.my.canva.site/timetable</a></p>
LAST-MODIFIED:20260420T132901Z
LOCATION: Litserborg | Litserstraat 2 Den Dungen
SEQUENCE:0
STATUS:CONFIRMED
SUMMARY:Vier Koningsdag in Den Dungen
TRANSP:OPAQUE
END:VEVENT
END:VCALENDAR
