BEGIN:VCALENDAR
PRODID:-//PUBBLE//agenda//NL
VERSION:2.0
METHOD:PUBLISH
BEGIN:VEVENT
DTSTART:20260501T083000Z
DTEND:20260501T093000Z
DTSTAMP:20260420T131434Z
UID:e851c0e1-365a-43ab-8920-a4b372b92684
CREATED:20260420T131434Z
NAME:Verhaaltijd. Voorlezen voor volwassenen en senioren weekblad-debrug.nl
X-WR-CALNAME:Verhaaltijd. Voorlezen voor volwassenen en senioren
X-ALT-DESC;FMTTYPE=text/html:<a href='/agenda/2026/5/1/verhaaltijd-voorlezen-voor-volwassenen-en-senioren-93697'>/agenda/2026/5/1/verhaaltijd-voorlezen-voor-volwassenen-en-senioren-93697</a> || <p>Heeft u zin in een gezellig uurtje en te luisteren naar een mooi verhaal? Kom dan naar de bibliotheek in den Durpsherd te &nbsp;Berlicum of naar &nbsp;bibliotheek in de Meander te &nbsp;Sint-Michielsgestel.</p><p>Toegang vrij met ook gratis kop koffie of thee. Samen met buurtgenoten, alleen of met familie, iedereen is zeer welkom. Verhalen luisteren geeft plezier en nieuwe ontmoetingen.We delen vaak meer met elkaar dan we denken.</p>
DESCRIPTION:<a href='/agenda/2026/5/1/verhaaltijd-voorlezen-voor-volwassenen-en-senioren-93697'>/agenda/2026/5/1/verhaaltijd-voorlezen-voor-volwassenen-en-senioren-93697</a> || <p>Heeft u zin in een gezellig uurtje en te luisteren naar een mooi verhaal? Kom dan naar de bibliotheek in den Durpsherd te &nbsp;Berlicum of naar &nbsp;bibliotheek in de Meander te &nbsp;Sint-Michielsgestel.</p><p>Toegang vrij met ook gratis kop koffie of thee. Samen met buurtgenoten, alleen of met familie, iedereen is zeer welkom. Verhalen luisteren geeft plezier en nieuwe ontmoetingen.We delen vaak meer met elkaar dan we denken.</p>
LAST-MODIFIED:20260420T131434Z
LOCATION: Bibliotheek Berlicum | Kerkwijk 61 Berlicum
SEQUENCE:0
STATUS:CONFIRMED
SUMMARY:Verhaaltijd. Voorlezen voor volwassenen en senioren
TRANSP:OPAQUE
END:VEVENT
END:VCALENDAR
